BEGIN:VCALENDAR
VERSION:2.0
PRODID:-//Tukios.com/
BEGIN:VEVENT
UID:e23afd6c-d3ff-4b47-b2ef-4bbc56850d5d@www.beamfuneralservice.com
DTSTAMP:20260424T173554Z
DTSTART:20260430
SUMMARY:Burial
DESCRIPTION:
URL:https://www.beamfuneralservice.com/obituaries/rev-harvey-johnson
LOCATION: 327 Memorial Park Rd  Marion NC 28752
GEO:35.702101;-81.9779091
END:VEVENT
END:VCALENDAR