BEGIN:VCALENDAR
VERSION:2.0
PRODID:-//Tukios.com/
BEGIN:VEVENT
UID:bc427d08-ec95-427a-a1c6-b00d776ac96b@www.beamfuneralservice.com
DTSTAMP:20260424T173125Z
DTSTART:20260430T180000Z
DTEND:20260430T190000Z
SUMMARY:Funeral Service
DESCRIPTION:
URL:https://www.beamfuneralservice.com/obituaries/rev-harvey-johnson
LOCATION: 2170 Rutherford Road  Marion NC 28752
GEO:35.6661627;-81.9806423
END:VEVENT
END:VCALENDAR