BEGIN:VCALENDAR
VERSION:2.0
PRODID:-//Tukios.com/
BEGIN:VEVENT
UID:db31fa87-8351-4d95-8f90-36ef11923b4b@www.beamfuneralservice.com
DTSTAMP:20260424T174320Z
DTSTART:20260430T170000Z
DTEND:20260430T180000Z
SUMMARY:Visitation
DESCRIPTION:
URL:https://www.beamfuneralservice.com/obituaries/rev-harvey-johnson
LOCATION:Beam Celebration Center 2170 Rutherford Road  Marion NC 28752
GEO:35.6661627;-81.9806423
END:VEVENT
END:VCALENDAR