BEGIN:VCALENDAR
VERSION:2.0
PRODID:-//Tukios.com/
BEGIN:VEVENT
UID:c9158c4b-6861-4f86-9b28-234aa9a6ab21@www.beamfuneralservice.com
DTSTAMP:20260422T004210Z
DTSTART:20260425T170000Z
DTEND:20260425T180000Z
SUMMARY:Visitation
DESCRIPTION:
URL:https://www.beamfuneralservice.com/obituaries/frances-reel
LOCATION:Marion Church of Christ 765 State St  Marion NC 28752
GEO:35.6890596;-81.9955135
END:VEVENT
END:VCALENDAR